BEGIN:VCALENDAR
VERSION:2.0
PRODID:-//https://www.epidaure.ch///NONSGML kigkonsult.se iCalcreator 2.10.15//
METHOD:PUBLISH
BEGIN:VEVENT
UID:20260420T102743CEST-6260wuPu89@https://www.epidaure.ch/
DTSTAMP:20260420T082743Z
DESCRIPTION: \nTABAGISME - quand la fumée cache la souffrance !\nFormation 
 continue  |  4h intensives  |  100% Zoom  |  Pour thérapeutes\, coaches et
  professionnel·les de l’accompagnement\nOn croit tout savoir sur le tabac.
 Et pourtant… la plupart des approches échouent.\nPourquoi ?Parce qu’elles 
 ne parlent pas à la partie blessée du fumeur.\nDerrière chaque dépendance 
 au tabac\, une histoire. Une régulation. Un besoin.\nEt souvent\, une détr
 esse ignorée.Ce cours vous invite à comprendre le tabagisme dans toute sa 
 complexité psychologique — et à intégrer les bons leviers pour vraiment ac
 compagner.\nCONTENU DU COURS\n\nDéfinition et mécanismes du tabagisme\nDif
 férentes formes d’addiction à la nicotine (physique\, comportementale\, ém
 otionnelle)\nSymptômes\, comorbidités\, évolutions possibles\nLes causes p
 rofondes : stress\, ancrages\, environnement\nStratégies d’intervention va
 lidées\n\nBONUS – REEL\, PAS DE LA FUMEE !\nUn petit document téléchargeab
 le\, contenant des exercices pratiques\, validés\, à proposer en séance ou
  à adapter en suivi individuel.\nPOURQUOI CE COURS PAR ZOOM ?\n✔️ Parce qu
 e la concentration est souvent meilleure chez soi✔️ Parce que vous pouvez 
 réécouter les explications clés en replay✔️ Parce que ce sujet demande int
 rospection\, calme\, et sécurité\n✔️ Et vous économisez temps\, trajet\, s
 tress\nPOURQUOI CE COURS ?\nParce que le tabagisme est l’un des comporteme
 nts les plus courants\, et pourtant les moins bien compris.Parce que le ta
 bac n’est pas un détail dans la vie d’une personne. C’est souvent le somme
 t visible d’un iceberg émotionnel.Et qu’il est temps de l’aborder avec res
 pect\, compétence et subtilité.\n👉  Inscrivez-vous dès maintenant – derriè
 re chaque cigarette\, il y a un message.\n        Apprenez à le décrypter.
 \n⏳ Attention : Places limitées !\n \nCours à la carte: prix par soirée de
  108.-\nFormatrice: Ursula Widmer\nPour chaque soirée\, une thématique dif
 férente. Consultez notre agenda pour les autres théamtiques.\n \nInscripti
 on ici\n \n https://www.epidaure.ch/agenda/cours-a-distance/evenement/274-
 psychologie-soiree-thematique-tabagisme-4h
DTSTART:20251029T170000Z
DTEND:20251029T210000Z
LOCATION:Cours Zoom (Rue de la Plaine 23 - 1400 Yverdon-les-Bains)
SUMMARY:Psychologie - soirée thématique: Tabagisme (4h)
URL:https://www.epidaure.ch/agenda/cours-a-distance/evenement/274-psycholog
 ie-soiree-thematique-tabagisme-4h
END:VEVENT
END:VCALENDAR
