BEGIN:VCALENDAR
VERSION:2.0
PRODID:-//https://www.epidaure.ch///NONSGML kigkonsult.se iCalcreator 2.10.15//
METHOD:PUBLISH
BEGIN:VEVENT
UID:20260420T152606CEST-0115nUp5uH@https://www.epidaure.ch/
DTSTAMP:20260420T132606Z
DESCRIPTION: \nCours à la carte: prix par soirée de CHF 108.-\nFormatrice: 
 Ursula Widmer\nPour chaque soirée\, une thématique différente. Consultez n
 otre agenda pour les autres théamatiques.\nInscription ici\n \n\n  https:/
 /www.epidaure.ch/agenda/cours-a-distance/evenement/415-psychologie-soiree-
 thematique-psychologie-des-emotions-4h
DTSTART:20260708T160000Z
DTEND:20260708T200000Z
LOCATION:Cours Zoom (Rue de la Plaine 23 - 1400 Yverdon-les-Bains)
SUMMARY:Psychologie - soirée thématique: psychologie des émotions(4h)
URL:https://www.epidaure.ch/agenda/cours-a-distance/evenement/415-psycholog
 ie-soiree-thematique-psychologie-des-emotions-4h
END:VEVENT
END:VCALENDAR
