BEGIN:VCALENDAR
VERSION:2.0
PRODID:-//https://www.epidaure.ch///NONSGML kigkonsult.se iCalcreator 2.10.15//
METHOD:PUBLISH
BEGIN:VEVENT
UID:20260420T152123CEST-0382CX0lsJ@https://www.epidaure.ch/
DTSTAMP:20260420T132123Z
DESCRIPTION: \nCours à la carte: prix par soirée de CHF 108.-\nFormatrice: 
 Ursula Widmer\nPour chaque soirée\, une thématique différente. Consultez n
 otre agenda pour les autres théamatiques.\nInscription ici\n \n\n  https:/
 /www.epidaure.ch/agenda/cours-a-distance/evenement/418-psychologie-soiree-
 thematique-sous-lemprise-des-ecrans-4h
DTSTART:20260904T160000Z
DTEND:20260904T200000Z
LOCATION:Cours Zoom (Rue de la Plaine 23 - 1400 Yverdon-les-Bains)
SUMMARY:Psychologie - soirée thématique: sous l'emprise des écrans (4h)
URL:https://www.epidaure.ch/agenda/cours-a-distance/evenement/418-psycholog
 ie-soiree-thematique-sous-lemprise-des-ecrans-4h
END:VEVENT
END:VCALENDAR
