BEGIN:VCALENDAR
VERSION:2.0
PRODID:-//https://www.epidaure.ch///NONSGML kigkonsult.se iCalcreator 2.10.15//
METHOD:PUBLISH
BEGIN:VEVENT
UID:20260420T145756CEST-7135ua1LDe@https://www.epidaure.ch/
DTSTAMP:20260420T125756Z
DESCRIPTION: \nCours à la carte: prix par soirée de CHF 108.-\nFormatrice: 
 Ursula Widmer\nPour chaque soirée\, une thématique différente. Consultez n
 otre agenda pour les autres théamatiques.\nInscription ici\n \n\n  https:/
 /www.epidaure.ch/agenda/cours-a-distance/evenement/427-psychologie-soiree-
 thematique-cephalees-4h
DTSTART:20261118T170000Z
DTEND:20261118T210000Z
LOCATION:Cours Zoom (Rue de la Plaine 23 - 1400 Yverdon-les-Bains)
SUMMARY:Psychologie - soirée thématique: céphalées (4h)
URL:https://www.epidaure.ch/agenda/cours-a-distance/evenement/427-psycholog
 ie-soiree-thematique-cephalees-4h
END:VEVENT
END:VCALENDAR
