BEGIN:VCALENDAR
VERSION:2.0
PRODID:-//https://www.epidaure.ch///NONSGML kigkonsult.se iCalcreator 2.10.15//
METHOD:PUBLISH
BEGIN:VEVENT
UID:20260421T123256CEST-5951Fs2uHe@https://www.epidaure.ch/
DTSTAMP:20260421T103256Z
DESCRIPTION: \nTarif: CHF 216.- \nPlus de détails ici\nInscription ici http
 s://www.epidaure.ch/agenda/evenement/345-anatomie-physiologie-pathologie-p
 harmacologie-organe-des-sens
DTSTART:20261003T070000Z
DTEND:20261003T160000Z
LOCATION:Salle rue des Remparts 5 (Rue des Remparts 5\, 1400\, Yverdon-les-
 Bains)
SUMMARY:Anatomie-physiologie-pathologie-pharmacologie: organe des sens
URL:https://www.epidaure.ch/agenda/evenement/345-anatomie-physiologie-patho
 logie-pharmacologie-organe-des-sens
END:VEVENT
END:VCALENDAR
