BEGIN:VCALENDAR
VERSION:2.0
PRODID:-//https://www.epidaure.ch///NONSGML kigkonsult.se iCalcreator 2.10.15//
METHOD:PUBLISH
BEGIN:VEVENT
UID:20260421T153946CEST-49347um0rH@https://www.epidaure.ch/
DTSTAMP:20260421T133946Z
DESCRIPTION:Dates: 30 et 31 octobre + 1er novembre 2026 de 9h à 18h\nTarif:
  CHF 648.-\nPlus de détails ici\nInscription https://www.epidaure.ch/agend
 a/evenement/358-pharmacologie-24h
DTSTART:20261030T080000Z
DTEND:20261101T170000Z
LOCATION:Salle rue des Remparts 5 (Rue des Remparts 5\, 1400\, Yverdon-les-
 Bains)
SUMMARY:Pharmacologie (24h)
URL:https://www.epidaure.ch/agenda/evenement/358-pharmacologie-24h
END:VEVENT
BEGIN:VEVENT
UID:20260421T153946CEST-49356ZmUuU@https://www.epidaure.ch/
DTSTAMP:20260421T133946Z
DESCRIPTION: \nCours à la carte: prix par soirée de CHF 108.-\nFormatrice: 
 Ursula Widmer\nPour chaque soirée\, une thématique différente. Consultez n
 otre agenda pour les autres théamatiques.\nInscription ici\n \n\n  https:/
 /www.epidaure.ch/agenda/evenement/424-psychologie-soiree-thematique-vivre-
 avec-une-maladie-chronique-4h
DTSTART:20261030T170000Z
DTEND:20261030T210000Z
LOCATION:Cours Zoom (Rue de la Plaine 23 - 1400 Yverdon-les-Bains)
SUMMARY:Psychologie - soirée thématique: vivre avec une maladie chronique (
 4h)
URL:https://www.epidaure.ch/agenda/evenement/424-psychologie-soiree-themati
 que-vivre-avec-une-maladie-chronique-4h
END:VEVENT
END:VCALENDAR
