BEGIN:VCALENDAR
VERSION:2.0
PRODID:-//https://www.epidaure.ch///NONSGML kigkonsult.se iCalcreator 2.10.15//
METHOD:PUBLISH
BEGIN:VEVENT
UID:20260421T154023CEST-6182EsiuFb@https://www.epidaure.ch/
DTSTAMP:20260421T134023Z
DESCRIPTION:Dates: 20\, 21 et 22 novembre 2026 de 9h à 18h\nTarif: CHF 648.
 -\nTous les détails ici\nInscription https://www.epidaure.ch/agenda/evenem
 ent/382-nutrition-la-flore-lequilibre-digestif-et-immunite-initiation-a-la
 -mycotherapie
DTSTART:20261120T080000Z
DTEND:20261122T170000Z
LOCATION:Rue des Remparts 5 - 1400 Yverdon-les-Bains (Rue des Remparts 5 - 
 1400 Yverdon-les-Bains)
SUMMARY:Nutrition: La flore\, l'équilibre digestif et immunité (initiation 
 à la mycothérapie)
URL:https://www.epidaure.ch/agenda/evenement/382-nutrition-la-flore-lequili
 bre-digestif-et-immunite-initiation-a-la-mycotherapie
END:VEVENT
BEGIN:VEVENT
UID:20260421T154023CEST-6183eDUjuv@https://www.epidaure.ch/
DTSTAMP:20260421T134023Z
DESCRIPTION: \nCours à la carte: prix par soirée de CHF 108.-\nFormatrice: 
 Ursula Widmer\nPour chaque soirée\, une thématique différente. Consultez n
 otre agenda pour les autres théamatiques.\nInscription ici\n \n\n  https:/
 /www.epidaure.ch/agenda/evenement/428-psychologie-soiree-thematique-respon
 sable-oui-coupable-non-4h
DTSTART:20261120T170000Z
DTEND:20261120T210000Z
LOCATION:Cours Zoom (Rue de la Plaine 23 - 1400 Yverdon-les-Bains)
SUMMARY:Psychologie - soirée thématique: responsable: oui - coupable: non! 
 (4h)
URL:https://www.epidaure.ch/agenda/evenement/428-psychologie-soiree-themati
 que-responsable-oui-coupable-non-4h
END:VEVENT
END:VCALENDAR
