BEGIN:VCALENDAR
VERSION:2.0
PRODID:-//https://www.epidaure.ch///NONSGML kigkonsult.se iCalcreator 2.10.15//
METHOD:PUBLISH
BEGIN:VEVENT
UID:20260421T154145CEST-7647iin8L0@https://www.epidaure.ch/
DTSTAMP:20260421T134145Z
DESCRIPTION: \nCours à la carte: prix par soirée de CHF 108.-\nFormatrice: 
 Ursula Widmer\nPour chaque soirée\, une thématique différente. Consultez n
 otre agenda pour les autres théamatiques.\nInscription ici\n \n\n  https:/
 /www.epidaure.ch/agenda/evenement/430-psychologie-soiree-thematique-mythes
 -de-la-sante-et-de-la-maladie-4h
DTSTART:20261202T170000Z
DTEND:20261202T210000Z
LOCATION:Cours Zoom (Rue de la Plaine 23 - 1400 Yverdon-les-Bains)
SUMMARY:Psychologie - soirée thématique: mythes de la santé et de la maladi
 e (4h)
URL:https://www.epidaure.ch/agenda/evenement/430-psychologie-soiree-themati
 que-mythes-de-la-sante-et-de-la-maladie-4h
END:VEVENT
END:VCALENDAR
