BEGIN:VCALENDAR
VERSION:2.0
PRODID:-//https://www.epidaure.ch///NONSGML kigkonsult.se iCalcreator 2.10.15//
METHOD:PUBLISH
BEGIN:VEVENT
UID:20260421T190705CEST-6242uw3Tm7@https://www.epidaure.ch/
DTSTAMP:20260421T170705Z
DESCRIPTION:Tarif: CHF 432.-\nTous les détails ici\nInscription https://www
 .epidaure.ch/agenda/evenement/383-nutrition-role-de-lalimentation-et-lequi
 libre-hormonal
DTSTART:20261218T080000Z
DTEND:20261219T170000Z
LOCATION:Rue des Remparts 5 - 1400 Yverdon-les-Bains (Rue des Remparts 5 - 
 1400 Yverdon-les-Bains)
SUMMARY:Nutrition: Rôle de l’alimentation et l’équilibre hormonal
URL:https://www.epidaure.ch/agenda/evenement/383-nutrition-role-de-laliment
 ation-et-lequilibre-hormonal
END:VEVENT
BEGIN:VEVENT
UID:20260421T190705CEST-6243lkSEdn@https://www.epidaure.ch/
DTSTAMP:20260421T170705Z
DESCRIPTION: \nCours à la carte: prix par soirée de CHF 108.-\nFormatrice: 
 Ursula Widmer\nPour chaque soirée\, une thématique différente. Consultez n
 otre agenda pour les autres théamatiques.\nInscription ici\n \n\n  https:/
 /www.epidaure.ch/agenda/evenement/432-psychologie-soiree-thematique-psycho
 microbiote-4h
DTSTART:20261216T170000Z
DTEND:20261216T210000Z
LOCATION:Cours Zoom (Rue de la Plaine 23 - 1400 Yverdon-les-Bains)
SUMMARY:Psychologie - soirée thématique: psychomicrobiote (4h)
URL:https://www.epidaure.ch/agenda/evenement/432-psychologie-soiree-themati
 que-psychomicrobiote-4h
END:VEVENT
BEGIN:VEVENT
UID:20260421T190705CEST-6244UndkB0@https://www.epidaure.ch/
DTSTAMP:20260421T170705Z
DESCRIPTION: \nCours à la carte: prix par soirée de CHF 108.-\nFormatrice: 
 Ursula Widmer\nPour chaque soirée\, une thématique différente. Consultez n
 otre agenda pour les autres théamatiques.\nInscription ici\n \n\n  https:/
 /www.epidaure.ch/agenda/evenement/433-psychologie-soiree-thematique-perspe
 ctives-de-vie-4h
DTSTART:20261218T170000Z
DTEND:20261218T210000Z
LOCATION:Cours Zoom (Rue de la Plaine 23 - 1400 Yverdon-les-Bains)
SUMMARY:Psychologie - soirée thématique: perspectives de vie (4h)
URL:https://www.epidaure.ch/agenda/evenement/433-psychologie-soiree-themati
 que-perspectives-de-vie-4h
END:VEVENT
END:VCALENDAR
