BEGIN:VCALENDAR
VERSION:2.0
PRODID:-//https://www.epidaure.ch///NONSGML kigkonsult.se iCalcreator 2.10.15//
METHOD:PUBLISH
BEGIN:VEVENT
UID:20260421T141941CEST-52927hoUHl@https://www.epidaure.ch/
DTSTAMP:20260421T121941Z
DESCRIPTION: \nTarif (16h): CHF 432.-\ntous les détails ici\nInscription ht
 tps://www.epidaure.ch/agenda/tous-les-prochains-cours/evenement/222-deonto
 logie---legislation-federale-16h
DTSTART:20260620T070000Z
DTEND:20260620T160000Z
LOCATION:Rue des Remparts 5 - 1400 Yverdon-les-Bains (Rue des Remparts 5 - 
 1400 Yverdon-les-Bains)
SUMMARY:Déontologie – Législation fédérale (16h)
URL:https://www.epidaure.ch/agenda/tous-les-prochains-cours/evenement/222-d
 eontologie---legislation-federale-16h
END:VEVENT
END:VCALENDAR
