BEGIN:VCALENDAR
VERSION:2.0
PRODID:-//https://www.epidaure.ch///NONSGML kigkonsult.se iCalcreator 2.10.15//
METHOD:PUBLISH
BEGIN:VEVENT
UID:20260421T162828CEST-0374FakeN5@https://www.epidaure.ch/
DTSTAMP:20260421T142828Z
DESCRIPTION: \nTarif: CHF 216.- \nPlus de détails ici\nInscription ici http
 s://www.epidaure.ch/agenda/tous-les-prochains-cours/evenement/341-anatomie
 -physiologie-pathologie-pharmacologie-reproduction-developpement-et-naissa
 nce
DTSTART:20260705T070000Z
DTEND:20260705T160000Z
LOCATION:Salle rue des Remparts 5 (Rue des Remparts 5\, 1400\, Yverdon-les-
 Bains)
SUMMARY:Anatomie-physiologie-pathologie-pharmacologie: reproduction\, dével
 oppement et naissance
URL:https://www.epidaure.ch/agenda/tous-les-prochains-cours/evenement/341-a
 natomie-physiologie-pathologie-pharmacologie-reproduction-developpement-et
 -naissance
END:VEVENT
END:VCALENDAR
